BEGIN:VCALENDAR
VERSION:2.0
PRODID:-//Squarespace Inc/Squarespace 6//v6//EN
BEGIN:VEVENT
UID:647f7e7f8057276a7b7326df@squarespace.com
DTSTAMP:20230624T214657Z
DTSTART:20230714T000000Z
DTEND:20230714T013000Z
SUMMARY:Phone Banking for Clouse
END:VEVENT
END:VCALENDAR
