BEGIN:VCALENDAR
VERSION:2.0
PRODID:-//Squarespace Inc/Squarespace 6//v6//EN
BEGIN:VEVENT
UID:647f7e7d0e2ea130b3e2b91d@squarespace.com
DTSTAMP:20230606T192055Z
DTSTART:20230707T000000Z
DTEND:20230707T013000Z
SUMMARY:Phone Banking for Clouse
END:VEVENT
END:VCALENDAR
