BEGIN:VCALENDAR
VERSION:2.0
PRODID:-//Squarespace Inc/Squarespace 6//v6//EN
BEGIN:VEVENT
UID:647f8200028f8529291b4caa@squarespace.com
DTSTAMP:20230606T192113Z
DTSTART:20230728T000000Z
DTEND:20230728T013000Z
SUMMARY:Phone Banking for Clouse
END:VEVENT
END:VCALENDAR
