BEGIN:VCALENDAR
VERSION:2.0
PRODID:-//Squarespace Inc/Squarespace 6//v6//EN
BEGIN:VEVENT
UID:647f7e8117d51541a78d9a32@squarespace.com
DTSTAMP:20230606T192107Z
DTSTART:20230721T000000Z
DTEND:20230721T013000Z
SUMMARY:Phone Banking for Clouse
END:VEVENT
END:VCALENDAR
