BEGIN:VCALENDAR
VERSION:2.0
PRODID:-//Squarespace Inc/Squarespace 6//v6//EN
BEGIN:VEVENT
UID:647f7e7c089c875d720b5f49@squarespace.com
DTSTAMP:20230606T192049Z
DTSTART:20230630T000000Z
DTEND:20230630T010000Z
SUMMARY:Phone Banking for Clouse
END:VEVENT
END:VCALENDAR
