BEGIN:VCALENDAR
VERSION:2.0
PRODID:-//Squarespace Inc/Squarespace 6//v6//EN
BEGIN:VEVENT
UID:647f7e7901c9715318653192@squarespace.com
DTSTAMP:20230606T192031Z
DTSTART:20230616T000000Z
DTEND:20230616T013000Z
SUMMARY:Phone Banking for Clouse
END:VEVENT
END:VCALENDAR
