BEGIN:VCALENDAR
VERSION:2.0
PRODID:-//Squarespace Inc/Squarespace 6//v6//EN
BEGIN:VEVENT
UID:647f7c1d01c971531864a8e7@squarespace.com
DTSTAMP:20230606T192009Z
DTSTART:20230609T000000Z
DTEND:20230609T013000Z
SUMMARY:Phone Banking for Clouse
END:VEVENT
END:VCALENDAR
