BEGIN:VCALENDAR
VERSION:2.0
PRODID:-//Squarespace Inc/Squarespace 6//v6//EN
BEGIN:VEVENT
UID:647f785048f3c2420a6d695c@squarespace.com
DTSTAMP:20230613T233425Z
DTSTART:20230722T230000Z
DTEND:20230723T013000Z
SUMMARY:Canvasing for Clouse
GEO:46.998886;-122.801157
LOCATION:Thornbury Park\, 5500 Thornbury Drive Southeast\, Lacey\, WA\, 985
 13\, United States
END:VEVENT
END:VCALENDAR
