BEGIN:VCALENDAR
VERSION:2.0
PRODID:-//Squarespace Inc/Squarespace 6//v6//EN
BEGIN:VEVENT
UID:647f784e48f3c2420a6d6950@squarespace.com
DTSTAMP:20230613T234248Z
DTSTART:20230729T230000Z
DTEND:20230730T013000Z
SUMMARY:Canvasing for Clouse
GEO:47.09487;-122.7742
LOCATION:Edgewater Park\, 7718 Rushmore Avenue Northeast\, Lacey\, WA\, 985
 16\, United States
END:VEVENT
END:VCALENDAR
