BEGIN:VCALENDAR
VERSION:2.0
PRODID:-//Squarespace Inc/Squarespace 6//v6//EN
BEGIN:VEVENT
UID:647f784be50b61008e458625@squarespace.com
DTSTAMP:20230624T040438Z
DTSTART:20230715T230000Z
DTEND:20230716T013000Z
SUMMARY:Canvasing for Clouse
GEO:47.029549;-122.803346
LOCATION:Lacey Elementary School\, 1800 Homann Drive Southeast\, Lacey\, WA
 \, 98503\, United States
END:VEVENT
END:VCALENDAR
