BEGIN:VCALENDAR
VERSION:2.0
PRODID:-//Squarespace Inc/Squarespace 6//v6//EN
BEGIN:VEVENT
UID:647f7847a86e882f3aeaf8b2@squarespace.com
DTSTAMP:20230613T231959Z
DTSTART:20230708T230000Z
DTEND:20230709T013000Z
SUMMARY:Canvasing for Clouse
GEO:47.009826;-122.831731
LOCATION:Avonlea Park\, 4112 Ingleside Loop Southeast\, Lacey\, WA\, 98503\
 , United States
END:VEVENT
END:VCALENDAR
