BEGIN:VCALENDAR
VERSION:2.0
PRODID:-//Squarespace Inc/Squarespace 6//v6//EN
BEGIN:VEVENT
UID:647f78465cd24905eabe7a9b@squarespace.com
DTSTAMP:20230613T221003Z
DTSTART:20230624T230000Z
DTEND:20230625T013000Z
SUMMARY:Canvasing for Clouse
GEO:47.053203;-122.826931
LOCATION:Chinook Middle School\, 4301 6th Avenue Northeast\, Lacey\, WA\, 9
 8516\, United States
END:VEVENT
END:VCALENDAR
