BEGIN:VCALENDAR
VERSION:2.0
PRODID:-//Squarespace Inc/Squarespace 6//v6//EN
BEGIN:VEVENT
UID:647f784468b1296ab4f8e62e@squarespace.com
DTSTAMP:20230613T231816Z
DTSTART:20230701T230000Z
DTEND:20230702T013000Z
SUMMARY:Canvasing for Clouse
GEO:46.999449;-122.817612
LOCATION:5234 55th Avenue Southeast\, Lacey\, WA\, 98503\, United States
END:VEVENT
END:VCALENDAR
