BEGIN:VCALENDAR
VERSION:2.0
PRODID:-//Squarespace Inc/Squarespace 6//v6//EN
BEGIN:VEVENT
UID:647f78427fb44441bf90a919@squarespace.com
DTSTAMP:20230613T220630Z
DTSTART:20230617T230000Z
DTEND:20230618T013000Z
SUMMARY:Canvasing for Clouse
GEO:47.02236;-122.827064
LOCATION:Chamber Lake Nature Area\, 2750 Lakeview Dr SE\, Lacey\, WA\, 9850
 3\, United States
END:VEVENT
END:VCALENDAR
