BEGIN:VCALENDAR
VERSION:2.0
PRODID:-//Squarespace Inc/Squarespace 6//v6//EN
BEGIN:VEVENT
UID:647f7525691f36596d1a18be@squarespace.com
DTSTAMP:20230606T185647Z
DTSTART:20230610T230000Z
DTEND:20230611T013000Z
SUMMARY:Canvasing for Clouse
GEO:47.10207;-122.769439
LOCATION:Pavilion Park\, 4875 Vashon Drive Northeast\, Lacey\, WA\, 98516\, 
 United States
END:VEVENT
END:VCALENDAR
