BEGIN:VCALENDAR
VERSION:2.0
PRODID:-//Squarespace Inc/Squarespace 6//v6//EN
BEGIN:VEVENT
UID:649c5afd77af23007883edcb@squarespace.com
DTSTAMP:20230629T062431Z
DTSTART:20230728T233000Z
DTEND:20230729T013000Z
SUMMARY:Sign Waving
GEO:47.050429;-122.796622
LOCATION:Carpenter Rd. and Martin Way\, Tanglewilde\, WA\, 98516\, United S
 tates
END:VEVENT
END:VCALENDAR
