BEGIN:VCALENDAR
VERSION:2.0
PRODID:-//Squarespace Inc/Squarespace 6//v6//EN
BEGIN:VEVENT
UID:649c58bb11ee55408ca6698e@squarespace.com
DTSTAMP:20230629T062421Z
DTSTART:20230721T233000Z
DTEND:20230722T013000Z
SUMMARY:Sign Waving
GEO:46.99629;-122.823206
LOCATION:Yelm Hwy and College St.\, Lacey\, WA\, 98503\, United States
END:VEVENT
END:VCALENDAR
