BEGIN:VCALENDAR
VERSION:2.0
PRODID:-//Squarespace Inc/Squarespace 6//v6//EN
BEGIN:VEVENT
UID:649c588a6652a972e6a50117@squarespace.com
DTSTAMP:20230629T062410Z
DTSTART:20230714T233000Z
DTEND:20230715T013000Z
SUMMARY:Sign Waving
GEO:47.014332;-122.823161
LOCATION:Mullen Rd. and College St.\, Lacey\, WA\, 98503\, United States
END:VEVENT
END:VCALENDAR
