BEGIN:VCALENDAR
VERSION:2.0
PRODID:-//Squarespace Inc/Squarespace 6//v6//EN
BEGIN:VEVENT
UID:649c5829a09bd44c5e6e7d69@squarespace.com
DTSTAMP:20230629T062359Z
DTSTART:20230707T233000Z
DTEND:20230708T013000Z
SUMMARY:Sign Waving
GEO:47.048587;-122.823139
LOCATION:College St. and Martin Way\, Lacey\, WA\, 98503\, United States
END:VEVENT
END:VCALENDAR
