BEGIN:VCALENDAR
VERSION:2.0
PRODID:-//Squarespace Inc/Squarespace 6//v6//EN
BEGIN:VEVENT
UID:649c5576f2eaf908cd59fa85@squarespace.com
DTSTAMP:20230629T062337Z
DTSTART:20230630T233000Z
DTEND:20230701T013000Z
SUMMARY:Sign Waving
GEO:47.056841;-122.764516
LOCATION:Marvin Rd. and Martin Way\, Lacey\, WA\, 98516\, United States
END:VEVENT
END:VCALENDAR
