BEGIN:VCALENDAR
VERSION:2.0
PRODID:-//Squarespace Inc/Squarespace 6//v6//EN
BEGIN:VEVENT
UID:649353c2df043827907aa0e0@squarespace.com
DTSTAMP:20230621T195314Z
DTSTART:20230623T010000Z
DTEND:20230623T020000Z
SUMMARY:SSPA Campaign Volunteer Training
GEO:47.043872;-122.904012
LOCATION:New Traditions Fair Trade\, 300 5th Avenue Southwest\, Olympia\, W
 A\, 98501\, United States
END:VEVENT
END:VCALENDAR
